BEGIN:VCALENDAR
VERSION:2.0
PRODID:-//IWSV - e.V. - ECPv6.15.12.2//NONSGML v1.0//EN
CALSCALE:GREGORIAN
METHOD:PUBLISH
X-WR-CALNAME:IWSV - e.V.
X-ORIGINAL-URL:https://iwsv.de
X-WR-CALDESC:Veranstaltungen für IWSV - e.V.
REFRESH-INTERVAL;VALUE=DURATION:PT1H
X-Robots-Tag:noindex
X-PUBLISHED-TTL:PT1H
BEGIN:VTIMEZONE
TZID:Europe/Berlin
BEGIN:DAYLIGHT
TZOFFSETFROM:+0100
TZOFFSETTO:+0200
TZNAME:CEST
DTSTART:20230326T010000
END:DAYLIGHT
BEGIN:STANDARD
TZOFFSETFROM:+0200
TZOFFSETTO:+0100
TZNAME:CET
DTSTART:20231029T010000
END:STANDARD
BEGIN:DAYLIGHT
TZOFFSETFROM:+0100
TZOFFSETTO:+0200
TZNAME:CEST
DTSTART:20240331T010000
END:DAYLIGHT
BEGIN:STANDARD
TZOFFSETFROM:+0200
TZOFFSETTO:+0100
TZNAME:CET
DTSTART:20241027T010000
END:STANDARD
BEGIN:DAYLIGHT
TZOFFSETFROM:+0100
TZOFFSETTO:+0200
TZNAME:CEST
DTSTART:20250330T010000
END:DAYLIGHT
BEGIN:STANDARD
TZOFFSETFROM:+0200
TZOFFSETTO:+0100
TZNAME:CET
DTSTART:20251026T010000
END:STANDARD
BEGIN:DAYLIGHT
TZOFFSETFROM:+0100
TZOFFSETTO:+0200
TZNAME:CEST
DTSTART:20260329T010000
END:DAYLIGHT
BEGIN:STANDARD
TZOFFSETFROM:+0200
TZOFFSETTO:+0100
TZNAME:CET
DTSTART:20261025T010000
END:STANDARD
BEGIN:DAYLIGHT
TZOFFSETFROM:+0100
TZOFFSETTO:+0200
TZNAME:CEST
DTSTART:20270328T010000
END:DAYLIGHT
BEGIN:STANDARD
TZOFFSETFROM:+0200
TZOFFSETTO:+0100
TZNAME:CET
DTSTART:20271031T010000
END:STANDARD
END:VTIMEZONE
BEGIN:VEVENT
DTSTART;TZID=Europe/Berlin:20260423T100000
DTEND;TZID=Europe/Berlin:20260423T153000
DTSTAMP:20260425T144535
CREATED:20251203T092932Z
LAST-MODIFIED:20251203T093208Z
UID:3894-1776938400-1776958200@iwsv.de
SUMMARY:Mitgliederversammlung und Fachexkursion der BG Nord
DESCRIPTION:
URL:https://iwsv.de/event/mitgliederversammlung-und-fachexkursion-der-bg-nord/
LOCATION:Cuxhaven\, Cuxhaven
END:VEVENT
BEGIN:VEVENT
DTSTART;TZID=Europe/Berlin:20260422T090000
DTEND;TZID=Europe/Berlin:20260422T150000
DTSTAMP:20260425T144535
CREATED:20251207T151320Z
LAST-MODIFIED:20251207T151320Z
UID:3903-1776848400-1776870000@iwsv.de
SUMMARY:Mitgliederversammlung der BG Süd und Fachexkursion
DESCRIPTION:
URL:https://iwsv.de/event/mitgliederversammlung-der-bg-sued-und-fachexkursion/
LOCATION:Schleuse Kriegenbrunn
END:VEVENT
BEGIN:VEVENT
DTSTART;TZID=Europe/Berlin:20260326T083000
DTEND;TZID=Europe/Berlin:20260326T150000
DTSTAMP:20260425T144535
CREATED:20251130T152229Z
LAST-MODIFIED:20251203T093110Z
UID:3881-1774513800-1774537200@iwsv.de
SUMMARY:Mitgliederversammlung und Exkursion der BG Südwest in Iffezheim
DESCRIPTION:
URL:https://iwsv.de/event/mitgliederversammlung-und-exkursion-iffezheim/
END:VEVENT
BEGIN:VEVENT
DTSTART;TZID=Europe/Berlin:20260228T124500
DTEND;TZID=Europe/Berlin:20260228T213000
DTSTAMP:20260425T144535
CREATED:20251229T183835Z
LAST-MODIFIED:20251229T183835Z
UID:3944-1772282700-1772314200@iwsv.de
SUMMARY:2. IWSV-Winterwanderung in Oldenburg
DESCRIPTION:
URL:https://iwsv.de/event/2-iwsv-winterwanderung-in-oldenburg/
LOCATION:Ols Brauhaus am Hafen\, Stau 34 in Oldenburg
ORGANIZER;CN="BG Nordwest":MAILTO:Sven.Wennekamp@wsv.bund.de oder
END:VEVENT
BEGIN:VEVENT
DTSTART;TZID=Europe/Berlin:20260220T120000
DTEND;TZID=Europe/Berlin:20260220T180000
DTSTAMP:20260425T144535
CREATED:20251130T152648Z
LAST-MODIFIED:20251130T152648Z
UID:3886-1771588800-1771610400@iwsv.de
SUMMARY:Sitzung des Geschäftsführenden Vorstands
DESCRIPTION:
URL:https://iwsv.de/event/sitzung-des-geschaeftsfuehrenden-vorstands-3/
LOCATION:Meppen
END:VEVENT
BEGIN:VEVENT
DTSTART;TZID=Europe/Berlin:20260115T150000
DTEND;TZID=Europe/Berlin:20260115T180000
DTSTAMP:20260425T144535
CREATED:20251214T092152Z
LAST-MODIFIED:20251214T092152Z
UID:3911-1768489200-1768500000@iwsv.de
SUMMARY:Neujahrsempfang
DESCRIPTION:
URL:https://iwsv.de/event/neujahrsempfang-2/
LOCATION:Berlin\, Mehringdamm 129\, Berlin\, 10965
END:VEVENT
BEGIN:VEVENT
DTSTART;TZID=Europe/Berlin:20251218T180000
DTEND;TZID=Europe/Berlin:20251218T210000
DTSTAMP:20260425T144535
CREATED:20251130T152006Z
LAST-MODIFIED:20251130T152006Z
UID:3878-1766080800-1766091600@iwsv.de
SUMMARY:Weihnachtsmarktbesuch Trier
DESCRIPTION:
URL:https://iwsv.de/event/weihnachtsmarktbesuch-trier/
LOCATION:Treffpunkt Glühweinstand Eifel; Galeria/ Karstadt\, Trier
END:VEVENT
BEGIN:VEVENT
DTSTART;TZID=Europe/Berlin:20251218T170000
DTEND;TZID=Europe/Berlin:20251218T210000
DTSTAMP:20260425T144535
CREATED:20251130T152350Z
LAST-MODIFIED:20251130T152350Z
UID:3883-1766077200-1766091600@iwsv.de
SUMMARY:Wintermarktbesuch
DESCRIPTION:
URL:https://iwsv.de/event/wintermarktbesuch/
LOCATION:Schweizer Milchkuranstalt Magdeburg
END:VEVENT
BEGIN:VEVENT
DTSTART;TZID=Europe/Berlin:20251212T150000
DTEND;TZID=Europe/Berlin:20251212T180000
DTSTAMP:20260425T144535
CREATED:20251203T092801Z
LAST-MODIFIED:20251203T093139Z
UID:3891-1765551600-1765562400@iwsv.de
SUMMARY:Weihnachtsmarktbesuch Hamburg
DESCRIPTION:
URL:https://iwsv.de/event/weihnachtsmarktbesuch-hamburg/
LOCATION:Treffpunkt: St. Petri Kirche HH\, Hamburg
END:VEVENT
BEGIN:VEVENT
DTSTART;TZID=Europe/Berlin:20251204T163000
DTEND;TZID=Europe/Berlin:20251204T193000
DTSTAMP:20260425T144535
CREATED:20251130T151816Z
LAST-MODIFIED:20251130T151816Z
UID:3875-1764865800-1764876600@iwsv.de
SUMMARY:Weihnachtsmarktbesuch Koblenz
DESCRIPTION:
URL:https://iwsv.de/event/weihnachtsmarktbesuch-koblenz/
LOCATION:Treffpunkt Münzplatz\, Koblenz
END:VEVENT
BEGIN:VEVENT
DTSTART;TZID=Europe/Berlin:20251128T120000
DTEND;TZID=Europe/Berlin:20251128T180000
DTSTAMP:20260425T144535
CREATED:20251130T151503Z
LAST-MODIFIED:20251130T151503Z
UID:3873-1764331200-1764352800@iwsv.de
SUMMARY:Bundesvorstandssitzung
DESCRIPTION:
URL:https://iwsv.de/event/bundesvorstandssitzung-4/
LOCATION:Hannover
END:VEVENT
BEGIN:VEVENT
DTSTART;TZID=Europe/Berlin:20251030T090000
DTEND;TZID=Europe/Berlin:20251030T150000
DTSTAMP:20260425T144535
CREATED:20251009T042156Z
LAST-MODIFIED:20251009T042156Z
UID:3858-1761814800-1761836400@iwsv.de
SUMMARY:Herbstexkursion der BG Süd zur Baustelle Pumpspeicherkraftwerk Happurg
DESCRIPTION:
URL:https://iwsv.de/event/herbstexkursion-der-bg-sued-zur-baustelle-pumpspeicherkraftwerk-happurg/
LOCATION:Happburg\, Happburg\, 91230
END:VEVENT
BEGIN:VEVENT
DTSTART;VALUE=DATE:20250911
DTEND;VALUE=DATE:20250915
DTSTAMP:20260425T144535
CREATED:20250122T075832Z
LAST-MODIFIED:20250122T075832Z
UID:3667-1757548800-1757894399@iwsv.de
SUMMARY:Exkursion der BG Hannover in den Raum Karlsruhe
DESCRIPTION:
URL:https://iwsv.de/event/exkursion-der-bg-hannover-in-den-raum-karlsruhe/
LOCATION:Karlsruhe
END:VEVENT
BEGIN:VEVENT
DTSTART;TZID=Europe/Berlin:20250718T130000
DTEND;TZID=Europe/Berlin:20250718T180000
DTSTAMP:20260425T144535
CREATED:20241127T165515Z
LAST-MODIFIED:20250122T084203Z
UID:3608-1752843600-1752861600@iwsv.de
SUMMARY:Sitzung des Geschäftsführenden Vorstands
DESCRIPTION:
URL:https://iwsv.de/event/sitzung-des-geschaeftsfuehrenden-vorstands-2/
LOCATION:Magdeburg
END:VEVENT
BEGIN:VEVENT
DTSTART;TZID=Europe/Berlin:20250523T090000
DTEND;TZID=Europe/Berlin:20250523T170000
DTSTAMP:20260425T144535
CREATED:20240925T055258Z
LAST-MODIFIED:20250213T064450Z
UID:3580-1747990800-1748019600@iwsv.de
SUMMARY:Bundesmitgliederversammlung
DESCRIPTION:Anmeldeformular
URL:https://iwsv.de/event/bundesmitgliederversammlung/
LOCATION:Brunsbüttel\, Ostermoorer Straße 18\, Brunsbüttel\, 25541
END:VEVENT
BEGIN:VEVENT
DTSTART;TZID=Europe/Berlin:20250522T120000
DTEND;TZID=Europe/Berlin:20250522T180000
DTSTAMP:20260425T144535
CREATED:20240925T055117Z
LAST-MODIFIED:20250409T171028Z
UID:3577-1747915200-1747936800@iwsv.de
SUMMARY:Bundesvorstandssitzung
DESCRIPTION:
URL:https://iwsv.de/event/bundesvorstandssitzung-3/
LOCATION:Brunsbüttel\, Ostermoorer Straße 18\, Brunsbüttel\, 25541
END:VEVENT
BEGIN:VEVENT
DTSTART;TZID=Europe/Berlin:20250403T090000
DTEND;TZID=Europe/Berlin:20250403T170000
DTSTAMP:20260425T144535
CREATED:20250118T144625Z
LAST-MODIFIED:20250306T053240Z
UID:3658-1743670800-1743699600@iwsv.de
SUMMARY:Mitgliederversammlung der BG Südwest
DESCRIPTION:
URL:https://iwsv.de/event/mitgliederversammlung-der-bg-suedwest/
LOCATION:am Stützpunkt Bad Ems\, Nieverner Straße 22a\, 56132 Bad Ems\, Nieverner Straße 22a\, Bad Ems\, 56132
END:VEVENT
BEGIN:VEVENT
DTSTART;TZID=Europe/Berlin:20250402T090000
DTEND;TZID=Europe/Berlin:20250402T150000
DTSTAMP:20260425T144535
CREATED:20250131T081225Z
LAST-MODIFIED:20250131T081225Z
UID:3686-1743584400-1743606000@iwsv.de
SUMMARY:Mitgliederversammlung der BG Hannover
DESCRIPTION:
URL:https://iwsv.de/event/mitgliederversammlung-der-bg-hannover/
END:VEVENT
BEGIN:VEVENT
DTSTART;TZID=Europe/Berlin:20250327T093000
DTEND;TZID=Europe/Berlin:20250327T160000
DTSTAMP:20260425T144535
CREATED:20250309T091718Z
LAST-MODIFIED:20250309T091718Z
UID:3725-1743067800-1743091200@iwsv.de
SUMMARY:Mitgliederversammlung der BG Ost
DESCRIPTION:
URL:https://iwsv.de/event/mitgliederversammlung-der-bg-ost/
LOCATION:Berlin\, Mehringdamm 129\, Berlin\, 10965
END:VEVENT
BEGIN:VEVENT
DTSTART;TZID=Europe/Berlin:20250327T090000
DTEND;TZID=Europe/Berlin:20250327T160000
DTSTAMP:20260425T144535
CREATED:20250308T155755Z
LAST-MODIFIED:20250308T155755Z
UID:3722-1743066000-1743091200@iwsv.de
SUMMARY:Mitgliederversammlung der BG Nord und Fortbildung (Rader Hochbrücke A7/ NOK)
DESCRIPTION:
URL:https://iwsv.de/event/mitgliederversammlung-der-bg-nord-und-fortbildung-rader-hochbruecke-a7-nok/
LOCATION:Rendsburg\, Loher Straße 1\, Rendsburg\, 24768
END:VEVENT
BEGIN:VEVENT
DTSTART;TZID=Europe/Berlin:20250327T084500
DTEND;TZID=Europe/Berlin:20250327T170000
DTSTAMP:20260425T144535
CREATED:20250201T191525Z
LAST-MODIFIED:20250201T191525Z
UID:3688-1743065100-1743094800@iwsv.de
SUMMARY:Mitgliederversammlung der BG Nordwest
DESCRIPTION:
URL:https://iwsv.de/event/mitgliederversammlung-der-bg-nordwest/
LOCATION:Treffpunkt Baustelle A29 Huntebrücke\, ca. Fuldastraße 35\, Oldenburg\, Oldenburg
ORGANIZER;CN="BG Nordwest":MAILTO:Sven.Wennekamp@wsv.bund.de oder
END:VEVENT
BEGIN:VEVENT
DTSTART;TZID=Europe/Berlin:20250312T093000
DTEND;TZID=Europe/Berlin:20250312T150000
DTSTAMP:20260425T144535
CREATED:20250208T093821Z
LAST-MODIFIED:20250208T093821Z
UID:3696-1741771800-1741791600@iwsv.de
SUMMARY:Fortbildung und Mitgliederversammlung der BG Süd
DESCRIPTION:
URL:https://iwsv.de/event/fortbildung-und-mitgliederversammlung-der-bg-sued/
LOCATION:Wehranlage Himmelstadt
END:VEVENT
BEGIN:VEVENT
DTSTART;TZID=Europe/Berlin:20250301T124500
DTEND;TZID=Europe/Berlin:20250301T213000
DTSTAMP:20260425T144535
CREATED:20250115T072541Z
LAST-MODIFIED:20250115T072752Z
UID:3653-1740833100-1740864600@iwsv.de
SUMMARY:1. IWSV-Winterwanderung
DESCRIPTION:
URL:https://iwsv.de/event/1-iwsv-winterwanderung/
LOCATION:Oldenburg\, Stau 34\, Oldenburg
ORGANIZER;CN="BG Nordwest":MAILTO:Sven.Wennekamp@wsv.bund.de oder
END:VEVENT
BEGIN:VEVENT
DTSTART;TZID=Europe/Berlin:20250221T130000
DTEND;TZID=Europe/Berlin:20250221T180000
DTSTAMP:20260425T144535
CREATED:20240925T054845Z
LAST-MODIFIED:20250130T120838Z
UID:3574-1740142800-1740160800@iwsv.de
SUMMARY:Sitzung des Geschäftsführenden Vorstands
DESCRIPTION:
URL:https://iwsv.de/event/sitzung-des-geschaeftsfuehrenden-vorstands/
LOCATION:Würzburg\, Würzburg
END:VEVENT
BEGIN:VEVENT
DTSTART;TZID=Europe/Berlin:20250115T100000
DTEND;TZID=Europe/Berlin:20250115T150000
DTSTAMP:20260425T144535
CREATED:20241211T094423Z
LAST-MODIFIED:20241211T094423Z
UID:3633-1736935200-1736953200@iwsv.de
SUMMARY:Vorstandssitzung Bezirksgruppe Hannover
DESCRIPTION:
URL:https://iwsv.de/event/vorstandssitzung-bezirksgruppe-hannover/
LOCATION:Helmstedt\, Walbecker Str. 23 B\, Helmstedt\, Niedersachsen\, 38350\, Germany
END:VEVENT
BEGIN:VEVENT
DTSTART;TZID=Europe/Berlin:20250109T150000
DTEND;TZID=Europe/Berlin:20250109T180000
DTSTAMP:20260425T144535
CREATED:20241127T165227Z
LAST-MODIFIED:20241127T165227Z
UID:3605-1736434800-1736445600@iwsv.de
SUMMARY:Neujahrsempfang
DESCRIPTION:
URL:https://iwsv.de/event/neujahrsempfang/
LOCATION:WNA Berlin Raum 2001
END:VEVENT
BEGIN:VEVENT
DTSTART;TZID=Europe/Berlin:20241205T170000
DTEND;TZID=Europe/Berlin:20241205T200000
DTSTAMP:20260425T144535
CREATED:20241127T165053Z
LAST-MODIFIED:20241127T165053Z
UID:3602-1733418000-1733428800@iwsv.de
SUMMARY:Weihnachtsmarktbesuch
DESCRIPTION:
URL:https://iwsv.de/event/weihnachtsmarktbesuch-3/
LOCATION:Weihnachtsmarkt Magdeburg (Pyramide)
END:VEVENT
BEGIN:VEVENT
DTSTART;TZID=Europe/Berlin:20241205T160000
DTEND;TZID=Europe/Berlin:20241205T190000
DTSTAMP:20260425T144535
CREATED:20241127T164815Z
LAST-MODIFIED:20241127T164815Z
UID:3599-1733414400-1733425200@iwsv.de
SUMMARY:Weihnachtsmarktbesuch
DESCRIPTION:
URL:https://iwsv.de/event/weihnachtsmarktbesuch-2/
LOCATION:Weihnachtsmarkt Koblenz (Pyramide am Münzplatz)
END:VEVENT
BEGIN:VEVENT
DTSTART;TZID=Europe/Berlin:20241203T160000
DTEND;TZID=Europe/Berlin:20241203T190000
DTSTAMP:20260425T144535
CREATED:20241127T164518Z
LAST-MODIFIED:20241127T164518Z
UID:3595-1733241600-1733252400@iwsv.de
SUMMARY:Weihnachtsmarktbesuch
DESCRIPTION:
URL:https://iwsv.de/event/weihnachtsmarktbesuch/
LOCATION:Weihnachtsmarkt Trier (Glühweinstand Eingang Galeria)
END:VEVENT
BEGIN:VEVENT
DTSTART;TZID=Europe/Berlin:20241122T130000
DTEND;TZID=Europe/Berlin:20241122T180000
DTSTAMP:20260425T144535
CREATED:20240925T053958Z
LAST-MODIFIED:20240925T054349Z
UID:3570-1732280400-1732298400@iwsv.de
SUMMARY:Bundesvorstandssitzung
DESCRIPTION:
URL:https://iwsv.de/event/bundesvorstandssitzung-2/
LOCATION:Potsdam\, Türkstraße 20\, Potsdam\, Brandenburg\, 14467\, Deutschland
END:VEVENT
END:VCALENDAR